BEGIN:VCALENDAR
PRODID;X-RICAL-TZSOURCE=TZINFO:-//com.denhaven2/NONSGML ri_cal gem//EN
CALSCALE:GREGORIAN
VERSION:2.0
BEGIN:VEVENT
CONTACT:
DTEND;VALUE=DATE:20261114
DTSTART;VALUE=DATE:20261106
GEO:51.014595;2.303222
UID:2010031
DESCRIPTION:
URL:
SUMMARY:Somma Cruise - Europe
LOCATION:Somma Cruise
BEGIN:VALARM
TRIGGER:-PT15H
DESCRIPTION:Somma Cruise - Europe
ACTION:AUDIO
END:VALARM
END:VEVENT
END:VCALENDAR
