BEGIN:VCALENDAR
PRODID;X-RICAL-TZSOURCE=TZINFO:-//com.denhaven2/NONSGML ri_cal gem//EN
CALSCALE:GREGORIAN
VERSION:2.0
BEGIN:VEVENT
CONTACT:
DTEND;VALUE=DATE-TIME:20260806T000000Z
DTSTART;VALUE=DATE-TIME:20260806T000000Z
GEO:45.50283;-73.5728
UID:2010023
DESCRIPTION:
URL:
SUMMARY:Place Bell - in support of Red Clay Strays
LOCATION:Place Bell
BEGIN:VALARM
TRIGGER:-PT15M
DESCRIPTION:Place Bell - in support of Red Clay Strays
ACTION:AUDIO
END:VALARM
END:VEVENT
END:VCALENDAR
